BEGIN:VCALENDAR
VERSION:2.0
PRODID:-//African Children's Choir - ECPv6.15.18//NONSGML v1.0//EN
CALSCALE:GREGORIAN
METHOD:PUBLISH
X-ORIGINAL-URL:https://africanchildrenschoir.com
X-WR-CALDESC:Events for African Children's Choir
REFRESH-INTERVAL;VALUE=DURATION:PT1H
X-Robots-Tag:noindex
X-PUBLISHED-TTL:PT1H
BEGIN:VTIMEZONE
TZID:America/Los_Angeles
BEGIN:DAYLIGHT
TZOFFSETFROM:-0800
TZOFFSETTO:-0700
TZNAME:PDT
DTSTART:20220313T100000
END:DAYLIGHT
BEGIN:STANDARD
TZOFFSETFROM:-0700
TZOFFSETTO:-0800
TZNAME:PST
DTSTART:20221106T090000
END:STANDARD
BEGIN:DAYLIGHT
TZOFFSETFROM:-0800
TZOFFSETTO:-0700
TZNAME:PDT
DTSTART:20230312T100000
END:DAYLIGHT
BEGIN:STANDARD
TZOFFSETFROM:-0700
TZOFFSETTO:-0800
TZNAME:PST
DTSTART:20231105T090000
END:STANDARD
BEGIN:DAYLIGHT
TZOFFSETFROM:-0800
TZOFFSETTO:-0700
TZNAME:PDT
DTSTART:20240310T100000
END:DAYLIGHT
BEGIN:STANDARD
TZOFFSETFROM:-0700
TZOFFSETTO:-0800
TZNAME:PST
DTSTART:20241103T090000
END:STANDARD
END:VTIMEZONE
BEGIN:VEVENT
DTSTART;TZID=America/Los_Angeles:20230219T103000
DTEND;TZID=America/Los_Angeles:20230219T103000
DTSTAMP:20260424T102408
CREATED:20220701T210456Z
LAST-MODIFIED:20220701T210456Z
UID:10000410-1676802600-1676802600@africanchildrenschoir.com
SUMMARY:Jackson\, MS
DESCRIPTION:
URL:https://africanchildrenschoir.com/event/jackson-ms/2023-02-19/2/
LOCATION:New Jerusalem Church\, 5708 Old Canton Rd\, Jackson\, MS\, 39211\, United States
END:VEVENT
BEGIN:VEVENT
DTSTART;TZID=America/Los_Angeles:20230219T073000
DTEND;TZID=America/Los_Angeles:20230219T073000
DTSTAMP:20260424T102408
CREATED:20220701T210456Z
LAST-MODIFIED:20220701T210456Z
UID:10000409-1676791800-1676791800@africanchildrenschoir.com
SUMMARY:Jackson\, MS
DESCRIPTION:
URL:https://africanchildrenschoir.com/event/jackson-ms/2023-02-19/1/
LOCATION:New Jerusalem Church\, 5708 Old Canton Rd\, Jackson\, MS\, 39211\, United States
END:VEVENT
END:VCALENDAR